BEGIN:VCALENDAR
VERSION:2.0
PRODID:-//Tukios.com/
BEGIN:VEVENT
UID:e2bd1555-6b23-477e-9b06-5e9aadb07462@www.kgfuneral.com
DTSTAMP:20260422T081754Z
DTSTART:20260424T220000Z
DTEND:20260424T230000Z
SUMMARY:Visitation
DESCRIPTION:
URL:https://www.kgfuneral.com/obituaries/bernard-williams-jr
LOCATION: 2410 Jackson Street  Paducah KY 42003
GEO:37.0697775;-88.6224219
END:VEVENT
END:VCALENDAR