BEGIN:VCALENDAR
VERSION:2.0
PRODID:-//Tukios.com/
BEGIN:VEVENT
UID:80f45454-aca6-4bc1-8a5b-59e27023b52d@www.kgfuneral.com
DTSTAMP:20260422T081402Z
DTSTART:20260424T230000Z
DTEND:20260425T000000Z
SUMMARY:Memorial Service
DESCRIPTION:
URL:https://www.kgfuneral.com/obituaries/bernard-williams-jr
LOCATION: 2410 Jackson Street  Paducah KY 42003
GEO:37.0697775;-88.6224219
END:VEVENT
END:VCALENDAR